BEGIN:VCALENDAR
VERSION:2.0
PRODID:-//OmniMagnetCalendar//EN
BEGIN:VEVENT
DTSTAMP:20190625T195740Z
STATUS:CONFIRMED
UID:hclouisville.clubs.harvard.edu139
DTSTART:20250930T210000Z
DTEND:20250930T230000Z
LOCATION:Hauck's Corner, 1000 Goss Avenue,  Louisville, KY, 40217, USA,
SUMMARY:Join us at Hauck's Corner for Welcome to Your City 2025!
DESCRIPTION:
BEGIN:VALARM
TRIGGER:-PT15M
ACTION:DISPLAY
END:VALARM
TRANSP:OPAQUE
END:VEVENT
END:VCALENDAR
