BEGIN:VCALENDAR
VERSION:2.0
PRODID:-//OmniMagnetCalendar//EN
BEGIN:VEVENT
DTSTAMP:20190625T195740Z
STATUS:CONFIRMED
UID:hclouisville.clubs.harvard.edu137
DTSTART:20241123T170000Z
DTEND:20241123T200000Z
LOCATION:Drake's Saint Matthews, 3939 Shelbyville Road, Saint Matthews, KY, 40207, United States,
SUMMARY:Join us November 23 for Harvard-Yale football in Saint Matthews!
DESCRIPTION:
BEGIN:VALARM
TRIGGER:-PT15M
ACTION:DISPLAY
END:VALARM
TRANSP:OPAQUE
END:VEVENT
END:VCALENDAR
