BEGIN:VCALENDAR
VERSION:2.0
PRODID:-//OmniMagnetCalendar//EN
BEGIN:VEVENT
DTSTAMP:20190625T195740Z
STATUS:CONFIRMED
UID:hclouisville.clubs.harvard.edu136
DTSTART:20240314T220000Z
DTEND:20240315T010000Z
LOCATION:Vincenzo's, 150 South 5th St., Louisville, KY, 40202, USA,
SUMMARY:Annual Dinner - March 14
DESCRIPTION:
BEGIN:VALARM
TRIGGER:-PT15M
ACTION:DISPLAY
END:VALARM
TRANSP:OPAQUE
END:VEVENT
END:VCALENDAR
